BEGIN:VCALENDAR
VERSION:2.0
PRODID:TU Chemnitz
METHOD:PUBLISH
X-WR-CALNAME:Veranstaltungen der TU Chemnitz
X-WR-TIMEZONE:Europe/Berlin
BEGIN:VEVENT
CLASS:PUBLIC
DTSTART;TZID="Europe/Berlin":20170324T091500
DTEND;TZID="Europe/Berlin":20170324T104500
LOCATION:Reichenhainer Str. 70\, Chemnitz (Weinhold-Bau)
SUMMARY:Strategien von Eltern für den Studienalltag (Familienservice) (TU Chemnitz\, Lern | RAUM - TU4U - Prorektor für Lehre und Internationales )
DESCRIPTION:Die Teilnehmenden werden über die Angebote des Familienservice & Anlaufstellen in Chemnitz informiert. Zudem reflektieren wir die Alltagspraktiken zur Bewältigung der Doppelbelastung von Studium mit Kind & lernen Strategien des Zeitmanagements kennen.\nIsabell Höfner & Josefine Klinkhardt\nAnmeldung unter: https://www.tu-chemnitz.de/qpl/tu4u/studierende/lernraum/index.html#events
ORGANIZER:MAILTO:jeanette.hilger@verwaltung.tu-chemnitz.de
UID:18261@www.tu-chemnitz.de
CREATED:20161011T101600Z
DTSTAMP:20210802T184313Z
END:VEVENT
END:VCALENDAR
