BEGIN:VCALENDAR
VERSION:2.0
PRODID:TU Chemnitz
METHOD:PUBLISH
X-WR-CALNAME:Veranstaltungen der TU Chemnitz
X-WR-TIMEZONE:Europe/Berlin
BEGIN:VEVENT
CLASS:PUBLIC
DTSTART;TZID="Europe/Berlin":20011004T110000
DTEND;TZID="Europe/Berlin":20011004T110000
LOCATION:Uni-Teil 1: Str. der Nationen 62\, Chemnitz (Altes Heizhaus)
SUMMARY:Semestereröffnung für ausländische Studienanfänger (Internationales Universitätskolleg)
DESCRIPTION:13.00 Uhr Empfang im Rathaus\, anschließend Turmführung\nEva Auerbach\, Tel. 531-1632\,-1304
ORGANIZER:MAILTO:iroe@hrz.tu-chemnitz.de
UID:1822@www.tu-chemnitz.de
CREATED:20011004T123000Z
DTSTAMP:20210802T202706Z
END:VEVENT
END:VCALENDAR
