BEGIN:VCALENDAR
VERSION:2.0
PRODID:TU Chemnitz
METHOD:PUBLISH
X-WR-CALNAME:Veranstaltungen der TU Chemnitz
X-WR-TIMEZONE:Europe/Berlin
BEGIN:VEVENT
CLASS:PUBLIC
DTSTART;VALUE=DATE:20161110
DTEND;VALUE=DATE:20161111
LOCATION:Biendo Hotel | pentagon³
SUMMARY:Women in Science & Engineering (Zentrum für Chancengleicheit in Wissenschaft und Forschung)
DESCRIPTION:Im Rahmen von Workshops und Exkursionen bei Chemnitzer Maschinenbauunternehmen gewinnen Sie Einblicke in die vielfältigen Forschungsbereiche des Maschinenbaus. Interessante Gespräche und wertvolle Kontakte für Ihre spätere Karriere runden die Tagung ab.\nNicole Dietrich\, 531-36625\, nicole.dietrich@hrz.tu-chemnitz.de
ORGANIZER:MAILTO:nicole.dietrich@hrz.tu-chemnitz.de
UID:18206@www.tu-chemnitz.de
CREATED:20161004T211100Z
DTSTAMP:20210801T215640Z
END:VEVENT
END:VCALENDAR
