BEGIN:VCALENDAR
VERSION:2.0
PRODID:TU Chemnitz
METHOD:PUBLISH
X-WR-CALNAME:Veranstaltungen der TU Chemnitz
X-WR-TIMEZONE:Europe/Berlin
BEGIN:VEVENT
CLASS:PUBLIC
DTSTART;TZID="Europe/Berlin":20161201T153000
DTEND;TZID="Europe/Berlin":20161201T163000
LOCATION:Str. der Nationen 12\, Chemnitz (Rawema-Gebäude)
SUMMARY:Infoveranstaltung Erste Staatsprüfung (Zentrum für Lehrerbildung)
DESCRIPTION:ZLB und SBA Chemnitz laden Studierende ein\, die die Erste Staatsprüfung im Sommer 2017 ablegen möchten. Vertreter des Prüfungsamtes der SBA stellen die Modalitäten der Prüfungsanmeldung dar und beantworten Fragen.\nSächsische Bildungsagentur Chemnitz\nzlb@tu-chemnitz.de
ORGANIZER:MAILTO:sabrina.theiler@zlb.tu-chemnitz.de
UID:18192@www.tu-chemnitz.de
CREATED:20160926T152800Z
DTSTAMP:20210802T175937Z
END:VEVENT
END:VCALENDAR
