BEGIN:VCALENDAR
VERSION:2.0
PRODID:TU Chemnitz
METHOD:PUBLISH
X-WR-CALNAME:Veranstaltungen der TU Chemnitz
X-WR-TIMEZONE:Europe/Berlin
BEGIN:VEVENT
CLASS:PUBLIC
DTSTART;TZID="Europe/Berlin":20170202T090000
DTEND;TZID="Europe/Berlin":20170202T170000
LOCATION:Str. der Nationen 62\, Chemnitz (Böttcher-Bau)
SUMMARY:Project Management for Scientists – My research is a successful project! (Zentrum für den wissenschaftlichen Nachwuchs\, InProTUC)
DESCRIPTION:This workshop will enable participants to transfer the theoretical  principles of project management to their own projects. They will deal with project goals\, milestone planning\, project scope\, risks and analyse their current research projects.\nKatja Wolter\nWorkshop offen für DoktorandInnen
ORGANIZER:MAILTO:carlo.emanuel@s2011.tu-chemnitz.de
UID:18182@www.tu-chemnitz.de
CREATED:20160926T094000Z
DTSTAMP:20210802T183854Z
END:VEVENT
END:VCALENDAR
