BEGIN:VCALENDAR
VERSION:2.0
PRODID:TU Chemnitz
METHOD:PUBLISH
X-WR-CALNAME:Veranstaltungen der TU Chemnitz
X-WR-TIMEZONE:Europe/Berlin
BEGIN:VEVENT
CLASS:PUBLIC
DTSTART;TZID="Europe/Berlin":20161124T090000
DTEND;TZID="Europe/Berlin":20161124T160000
LOCATION:Str. der Nationen 62\, Chemnitz (Böttcher-Bau)
SUMMARY:Get Ready for Change (Zentrum für den wissenschaftlichen Nachwuchs\, InProTUC)
DESCRIPTION:Conducting research in another country\, participating in international conferences or working in a multinational team: Participants enhance their cross-cultural communication competencies and actively train their change competencies.\nDr. Stephanie Rohac\nWorkshop offen für DoktorandInnen
ORGANIZER:MAILTO:carlo.emanuel@s2011.tu-chemnitz.de
UID:18177@www.tu-chemnitz.de
CREATED:20160926T092800Z
DTSTAMP:20210801T215741Z
END:VEVENT
END:VCALENDAR
