BEGIN:VCALENDAR
VERSION:2.0
PRODID:TU Chemnitz
METHOD:PUBLISH
X-WR-CALNAME:Veranstaltungen der TU Chemnitz
X-WR-TIMEZONE:Europe/Berlin
BEGIN:VEVENT
CLASS:PUBLIC
DTSTART;TZID="Europe/Berlin":20011029T190000
DTEND;TZID="Europe/Berlin":20011029T203000
LOCATION:Wilhelm-Raabe-Str. 43\, Chemnitz
SUMMARY:Praxisberatung\, Supervision (Philosophische Fakultät\, Praktikumsamt)
DESCRIPTION:Vortragsreihe Berufsfelderkundung\nDipl.-Psych. Bernd Radloff\, Verbund Sozialpädagogischer Projekte e.V.\, Dresden\nkarla.kebsch@phil.tu-chemnitz.de
ORGANIZER:MAILTO:keka@hrz.tu-chemnitz.de
UID:1817@www.tu-chemnitz.de
CREATED:20011002T142600Z
DTSTAMP:20210802T202700Z
END:VEVENT
END:VCALENDAR
