BEGIN:VCALENDAR
VERSION:2.0
PRODID:TU Chemnitz
METHOD:PUBLISH
X-WR-CALNAME:Veranstaltungen der TU Chemnitz
X-WR-TIMEZONE:Europe/Berlin
BEGIN:VEVENT
CLASS:PUBLIC
DTSTART;TZID="Europe/Berlin":20161109T113000
DTEND;TZID="Europe/Berlin":20161109T130000
LOCATION:Reichenhainer Str. 70\, Chemnitz (Weinhold-Bau)
SUMMARY:Auslandspraktikum mit Erasmus+ (Internationales Universitätszentrum)
DESCRIPTION:Auslandspraktikum in Europa mit Erasmus+! Praktikumsplatz\, finanzielle Förderung\, Organisatorisches - zu all diesen und vielen weiteren Punkten gibt das Leonardo Büro im Rahmen des "Internationalen Tags" des IUZ heute Auskunft. Vorbeischauen lohnt sich!\nThorsten Poppinga (Leonardo Büro)\, Oliver Sachs (IUZ)\nOliver Sachs\, 0371 531 37972\, oliver.sachs@iuz.tu-chemnitz.de
ORGANIZER:MAILTO:oliver.sachs@iuz.tu-chemnitz.de
UID:18159@www.tu-chemnitz.de
CREATED:20160915T085000Z
DTSTAMP:20210801T215724Z
END:VEVENT
END:VCALENDAR
