BEGIN:VCALENDAR
VERSION:2.0
PRODID:TU Chemnitz
METHOD:PUBLISH
X-WR-CALNAME:Veranstaltungen der TU Chemnitz
X-WR-TIMEZONE:Europe/Berlin
BEGIN:VEVENT
CLASS:PUBLIC
DTSTART;TZID="Europe/Berlin":20011204T153000
DTEND;TZID="Europe/Berlin":20011204T170000
LOCATION:Reichenhainer Str. 70\, Chemnitz (Zentr. Hörsaal- und Seminargebäude)
SUMMARY:Vortragsreihe Berufsfelderkundung: Aufgaben und Wirkungsbereich des bsw (Bildungswerk der sächsischen Wirtschaft) (Philosophische Fakultät\, Praktikumsamt)
DESCRIPTION:Dr. Torsten Merkel/ Leiter des Projekt- und Arbeitszentrums Sachsen\ningrid.treptow@phil.tu-chemnitz.de/karla.kebsch@phil.tu-chemnitz.de
ORGANIZER:MAILTO:keka@hrz.tu-chemnitz.de
UID:1813@www.tu-chemnitz.de
CREATED:20011002T131800Z
DTSTAMP:20210802T202627Z
END:VEVENT
END:VCALENDAR
