BEGIN:VCALENDAR
VERSION:2.0
PRODID:TU Chemnitz
METHOD:PUBLISH
X-WR-CALNAME:Veranstaltungen der TU Chemnitz
X-WR-TIMEZONE:Europe/Berlin
BEGIN:VEVENT
CLASS:PUBLIC
DTSTART;TZID="Europe/Berlin":20011030T171500
DTEND;TZID="Europe/Berlin":20011030T184500
LOCATION:Wilhelm-Raabe-Str. 43\, Chemnitz
SUMMARY:Forschungskolloquium: "Leader-Member-Exchange und Geschlecht - Ist die Wahrnehmung der Führungskraft abhängig von der Geschlechterkonstellation?" (Philosophische Fakultät\, Insitut für Psychologie)
DESCRIPTION:Dr. Birgit Schynz\, Universität Leipzig\nDipl.-Psych. Frank Renkewitz\, Tel. (0371) 531-6354\, E-Mail: frank.renkewitz@phil.tu-chemnitz.de
ORGANIZER:MAILTO:pfl@hrz.tu-chemnitz.de
UID:1809@www.tu-chemnitz.de
CREATED:20011001T120100Z
DTSTAMP:20210802T202701Z
END:VEVENT
END:VCALENDAR
