BEGIN:VCALENDAR
VERSION:2.0
PRODID:TU Chemnitz
METHOD:PUBLISH
X-WR-CALNAME:Veranstaltungen der TU Chemnitz
X-WR-TIMEZONE:Europe/Berlin
BEGIN:VEVENT
CLASS:PUBLIC
DTSTART;TZID="Europe/Berlin":20011114T190000
DTEND;TZID="Europe/Berlin":20011114T190000
LOCATION:Reichenhainer Str. 70\, Chemnitz (Zentr. Hörsaal- und Seminargebäude)
SUMMARY:Vortragsreihe Zukunft Europa: Traditionen - Realitäten - Visionen "Mitbewohner - Konkurrenten - Nachbarn. Deutsche und Tschechen in ihrer gegenseitigen Wahrnehmung" (TU Chemnitz)
DESCRIPTION:Prof. Dr. Hans Lemberg\, Universität Marburg\nDr. Renate Wißuwa\, Tel. 531-12 21
ORGANIZER:MAILTO:iroe@hrz.tu-chemnitz.de
UID:1792@www.tu-chemnitz.de
CREATED:20010919T150100Z
DTSTAMP:20210802T202647Z
END:VEVENT
END:VCALENDAR
