BEGIN:VCALENDAR
VERSION:2.0
PRODID:TU Chemnitz
METHOD:PUBLISH
X-WR-CALNAME:Veranstaltungen der TU Chemnitz
X-WR-TIMEZONE:Europe/Berlin
BEGIN:VEVENT
CLASS:PUBLIC
DTSTART;TZID="Europe/Berlin":20011127T171500
DTEND;TZID="Europe/Berlin":20011127T184500
LOCATION:Wilhelm-Raabe-Str. 43\, Chemnitz
SUMMARY:Forschungskolloquium: "Risikoentscheidungen - jenseits von Glücksspielen und Lotterien" (Philosophische Fakultät\, Institut für Psychologie)
DESCRIPTION:Prof. Dr. Oswald Huber\, Universität Fribourg/Schweiz\nDipl.-Psych. Frank Renkewitz\, Tel. 0371/531 6354\, E-Mail: frank.renkewitz@phil.tu-chemnitz.de
ORGANIZER:MAILTO:pfl@hrz.tu-chemnitz.de
UID:1785@www.tu-chemnitz.de
CREATED:20010912T152700Z
DTSTAMP:20210802T202641Z
END:VEVENT
END:VCALENDAR
