BEGIN:VCALENDAR
VERSION:2.0
PRODID:TU Chemnitz
METHOD:PUBLISH
X-WR-CALNAME:Veranstaltungen der TU Chemnitz
X-WR-TIMEZONE:Europe/Berlin
BEGIN:VEVENT
CLASS:PUBLIC
DTSTART;TZID="Europe/Berlin":20011004T190000
DTEND;TZID="Europe/Berlin":20011007T130000
LOCATION:Klosterhotel Nimbschen\, Grimma
SUMMARY:9. Internationale Tagung der Gesellschaft für Englische Romantik e.V. (Philosophische Fakultät\, Anglistische Literaturwissenschaft)
DESCRIPTION:Gegenstand der Tagung sind wenig erforschte Gattungen der englischen Romantik (Reisebericht\, Drama\, biographische Literatur). Die Aufmerksamkeit richtet sich besonders auf Texte und AutorInnen der marginalisierten Regionen Wales\, Schottland und Irland.\n\n\n\nProf. Dr. Werner Huber; ++49-(0)371-531-4277\, -4282; werner.huber@phil.tu-chemnitz.de\, www.tu-chemnitz.de/phil/english/englit/
ORGANIZER:MAILTO:marie-luise.egbert@phil.tu-chemnitz.de
UID:1773@www.tu-chemnitz.de
CREATED:20010904T094000Z
DTSTAMP:20210802T202705Z
END:VEVENT
END:VCALENDAR
