BEGIN:VCALENDAR
VERSION:2.0
PRODID:TU Chemnitz
METHOD:PUBLISH
X-WR-CALNAME:Veranstaltungen der TU Chemnitz
X-WR-TIMEZONE:Europe/Berlin
BEGIN:VEVENT
CLASS:PUBLIC
DTSTART;TZID="Europe/Berlin":19981112T160000
DTEND;TZID="Europe/Berlin":19981112T160000
LOCATION:Uni-Teil 3: Reichenhainer Str. 70\, Chemnitz (Rühlmann-Bau)
SUMMARY:Chemnitzer Mathematisches Colloquium: "Stabilitätswechsel in singulär gestörten Systemen" (Fakultät für Mathematik\, Professur Angewandte Mathematik)
DESCRIPTION:Dr. Klaus Schneider \, WIAS Berlin\nHSD Dr. Sybille Handrock\, Tel. 5 31-21 58
ORGANIZER:MAILTO:iroe@hrz.tu-chemnitz.de
UID:176@www.tu-chemnitz.de
CREATED:19981103T153500Z
DTSTAMP:20210802T203546Z
END:VEVENT
END:VCALENDAR
