BEGIN:VCALENDAR
VERSION:2.0
PRODID:TU Chemnitz
METHOD:PUBLISH
X-WR-CALNAME:Veranstaltungen der TU Chemnitz
X-WR-TIMEZONE:Europe/Berlin
BEGIN:VEVENT
CLASS:PUBLIC
DTSTART;TZID="Europe/Berlin":20010917T100000
DTEND;TZID="Europe/Berlin":20010917T113000
LOCATION:Institut für Mechatronik\, Reichenhainer Str. 88\, Seminarraum
SUMMARY:Numerisch-experimentelle Zugänge zur Sicherheits- und Lebensdauerbewertung von Raumfahrtkonstruktionen im Rahmen des GK 'Energiebereitstellung durch regenerative Energiequellen'  (Institut für Mechatronik e.V.)
DESCRIPTION:Zu diesem Thema hält der Referent zwei Vorträge:\n1. Überblick über die wichtigsten Kriterien der Bruchmechanik (17.09.2001)\n2. Sicherheits- und Lebensdauerbewertung rissbehafteter Konstruktionen (20.09.2001)\nDr. Alexander Rusakov\, Universität Samara\, Russland\nFrau Hoppe\, Tel.: (0371) 531 4671\, ifm@ifm.tu-chemnitz.de
ORGANIZER:MAILTO:hfreu@hrz.tu-chemnitz.de
UID:1752@www.tu-chemnitz.de
CREATED:20010821T080900Z
DTSTAMP:20210802T202712Z
END:VEVENT
END:VCALENDAR
