BEGIN:VCALENDAR
VERSION:2.0
PRODID:TU Chemnitz
METHOD:PUBLISH
X-WR-CALNAME:Veranstaltungen der TU Chemnitz
X-WR-TIMEZONE:Europe/Berlin
BEGIN:VEVENT
CLASS:PUBLIC
DTSTART;TZID="Europe/Berlin":20011130T200000
DTEND;TZID="Europe/Berlin":20011130T235500
LOCATION:Reichenhainer Str. 55\, Chemnitz (Mensa)
SUMMARY:Folktanz mit Zerrwanst (Folkverein Chemnitz)
DESCRIPTION:Hier bleibt kein Fuß ruhig! Frechen Folk aus aller Welt\nbietet die Band Zerrwanst vor allem für Tanzwütige.\ninfo@folkverein-chemnitz.de
ORGANIZER:MAILTO:falk@sturmfalken.de
UID:1751@www.tu-chemnitz.de
CREATED:20010819T234600Z
DTSTAMP:20210802T202647Z
END:VEVENT
END:VCALENDAR
