BEGIN:VCALENDAR
VERSION:2.0
PRODID:TU Chemnitz
METHOD:PUBLISH
X-WR-CALNAME:Veranstaltungen der TU Chemnitz
X-WR-TIMEZONE:Europe/Berlin
BEGIN:VEVENT
CLASS:PUBLIC
DTSTART;TZID="Europe/Berlin":20151124T171500
DTEND;TZID="Europe/Berlin":20151124T184500
LOCATION:Wilhelm-Raabe-Str. 43\, Chemnitz
SUMMARY:Institutskolloquium Psychologie (Fakultät für Human- und Sozialwissenschaften)
DESCRIPTION:"Ambiguität und Aufmerksamkeit während natürlichen Verhaltens"\nProf. Dr. Wolfgang Einhäuser-Treyer\, TU Chemnitz\, Institut für Physik\nSabine Dittrich\, Tel. 531 36313
ORGANIZER:MAILTO:sabine.dittrich@psychologie.tu-chemnitz.de
UID:17434@www.tu-chemnitz.de
CREATED:20151119T111900Z
DTSTAMP:20210801T215908Z
END:VEVENT
END:VCALENDAR
