BEGIN:VCALENDAR
VERSION:2.0
PRODID:TU Chemnitz
METHOD:PUBLISH
X-WR-CALNAME:Veranstaltungen der TU Chemnitz
X-WR-TIMEZONE:Europe/Berlin
BEGIN:VEVENT
CLASS:PUBLIC
DTSTART;TZID="Europe/Berlin":20151117T210000
DTEND;TZID="Europe/Berlin":20151117T230000
LOCATION:Filmclub "mittendrin"\, Reichenhainer Str. 35/37\, Keller
SUMMARY:Kino: FRANK (OmdU) ("mittendrin" - das campuskino)
DESCRIPTION:In der herrlich-schrägen irischen Musikkomödie FRANK brilliert Michael Fassbender als wahnwitziger Bandleader ohne Gesicht\, dafür mit Pappschädel. \nA weird\, wonderful movie that dances to a different beat.\n>> Tonight in ENGLISH OV (+ German subs)!\nfilmclub@tu-chemnitz.de
ORGANIZER:MAILTO:christina.axt@s2010.tu-chemnitz.de
UID:17422@www.tu-chemnitz.de
CREATED:20151112T152400Z
DTSTAMP:20210801T215847Z
END:VEVENT
END:VCALENDAR
