BEGIN:VCALENDAR
VERSION:2.0
PRODID:TU Chemnitz
METHOD:PUBLISH
X-WR-CALNAME:Veranstaltungen der TU Chemnitz
X-WR-TIMEZONE:Europe/Berlin
BEGIN:VEVENT
CLASS:PUBLIC
DTSTART;TZID="Europe/Berlin":20151111T100000
DTEND;TZID="Europe/Berlin":20151111T160000
LOCATION:Reichenhainer Str. 90\, Chemnitz (Zentr. Hörsaal- und Seminargebäude)
SUMMARY:Study&Work Eröffnungsveranstaltung (Career Service\, Study&Work)
DESCRIPTION:Internationale Studierende können von 13 bis 15Uhr interessante Vorträge zum Thema Arbeiten in Deutschland besuchen. Außerdem informiert der Study&Work Stand im 1.Obergeschoss des ZHSG zum Projekt und den Möglichkeiten der Arbeitsvermittlung.\nJulia Werner\, 0371/53131981\, julia.werner@hrz.tu-chemnitz.de
ORGANIZER:MAILTO:julia.werner@hrz.tu-chemnitz.de
UID:17410@www.tu-chemnitz.de
CREATED:20151110T101100Z
DTSTAMP:20210801T215917Z
END:VEVENT
END:VCALENDAR
