BEGIN:VCALENDAR
VERSION:2.0
PRODID:TU Chemnitz
METHOD:PUBLISH
X-WR-CALNAME:Veranstaltungen der TU Chemnitz
X-WR-TIMEZONE:Europe/Berlin
BEGIN:VEVENT
CLASS:PUBLIC
DTSTART;TZID="Europe/Berlin":20151107T100000
DTEND;TZID="Europe/Berlin":20151107T140000
LOCATION:Wilhelm-Raabe-Str. 43\, Chemnitz
SUMMARY:Das Gelbe vom Ei schon gefunden? Berufsinformationstag (Fakultät für Human- und Sozialwissenschaften)
DESCRIPTION:Absolventinnen und Absolventen eurer Fachrichtung berichten aus ihrer Arbeitswelt und stehen Rede und Antwort. Die Vorträge finden jeweils drei Mal statt: 10.00 Uhr\, 11.00 Uhr\, 12.00 Uhr.\naus den Bereichen: Personaltraining\, Rechtspsychologie\, Psychoonkologie\, Medienberatung\, Integration\, Politik\, Rehabilitation\, O\nDr. Frank Mühlhausen\, Tel. 28000\, dekanat@hsw.tu-chemnitz.de
ORGANIZER:MAILTO:detlef.bergmann@psychologie.tu-chemnitz.de
UID:17403@www.tu-chemnitz.de
CREATED:20151106T113500Z
DTSTAMP:20210801T215855Z
END:VEVENT
END:VCALENDAR
