BEGIN:VCALENDAR
VERSION:2.0
PRODID:TU Chemnitz
METHOD:PUBLISH
X-WR-CALNAME:Veranstaltungen der TU Chemnitz
X-WR-TIMEZONE:Europe/Berlin
BEGIN:VEVENT
CLASS:PUBLIC
DTSTART;TZID="Europe/Berlin":20151110T210000
DTEND;TZID="Europe/Berlin":20151110T230000
LOCATION:Filmclub "mittendrin"\, Reichenhainer Str. 35/37\, Keller
SUMMARY:Kino: MAD MAX - FURY ROAD (OmdU) ("mittendrin" - das campuskino)
DESCRIPTION:Full Heavy Metal! In der Fortsetzung der "Mad Max"-Saga rast ein Tankzug durch die Wüste und liefert sich Duelle mit bizarren Auto-Hybriden. Ein postapokalyptisches Ballett aus Schrott und Stahl.\n>>  In ENGLISH ORIGINAL version (+ German subs)!\nfilmclub@tu-chemnitz.de
ORGANIZER:MAILTO:christina.axt@s2010.tu-chemnitz.de
UID:17398@www.tu-chemnitz.de
CREATED:20151104T120400Z
DTSTAMP:20210801T215940Z
END:VEVENT
END:VCALENDAR
