BEGIN:VCALENDAR
VERSION:2.0
PRODID:TU Chemnitz
METHOD:PUBLISH
X-WR-CALNAME:Veranstaltungen der TU Chemnitz
X-WR-TIMEZONE:Europe/Berlin
BEGIN:VEVENT
CLASS:PUBLIC
DTSTART;TZID="Europe/Berlin":20151105T210000
DTEND;TZID="Europe/Berlin":20151105T230000
LOCATION:Filmclub "mittendrin"\, Reichenhainer Str. 35-37\, Keller
SUMMARY:Kino: MAD MAX - FURY ROAD ("mittendrin" - das campuskino)
DESCRIPTION:Eine 120min-Party - Heavy Metal pur! Der Mad-Max-Reboot ist ein gewaltiges Action-Spektakel\, ein postapokalyptisches Ballett aus Schrott & Stahl\, das sogar die "Fast & Furious"-Filme lahm aussehen lässt.\nScreening in ENGLISH ORIGINAL version on Tuesday!\nfilmclub@tu-chemnitz.de
ORGANIZER:MAILTO:christina.axt@s2010.tu-chemnitz.de
UID:17395@www.tu-chemnitz.de
CREATED:20151104T032100Z
DTSTAMP:20210801T215850Z
END:VEVENT
END:VCALENDAR
