BEGIN:VCALENDAR
VERSION:2.0
PRODID:TU Chemnitz
METHOD:PUBLISH
X-WR-CALNAME:Veranstaltungen der TU Chemnitz
X-WR-TIMEZONE:Europe/Berlin
BEGIN:VEVENT
CLASS:PUBLIC
DTSTART;TZID="Europe/Berlin":20151104T140000
DTEND;TZID="Europe/Berlin":20151104T150000
LOCATION:Str. der Nationen 12\, Chemnitz (Rawema-Gebäude)
SUMMARY:Hier bin ich Kind\, hier darf ich's sein. Spielerisches Lernen in einer Reformschule (Zentrum für Lehrerbildung\, Professur Schulpädagogik der Primarstufe)
DESCRIPTION:Das ZLB zeigt ab dem 4.11.2015\, 14:00\, eine Ausstellung zum  Wirken und Schaffen des Reformpädagogen Karl Prelle. Die Eröffnung findet im Foyer der 3.Etage im Rawema Haus\, statt. Die Ausstellung ist Montag bis Freitag von 8:00-16:00 Uhr frei zugänglich\nJasmin Trinks\njasmin.trinks@zlb.tu-chemnitz.de
ORGANIZER:MAILTO:jasmin.trinks@zlb.tu-chemnitz.de
UID:17381@www.tu-chemnitz.de
CREATED:20151030T105300Z
DTSTAMP:20210801T215920Z
END:VEVENT
END:VCALENDAR
