BEGIN:VCALENDAR
VERSION:2.0
PRODID:TU Chemnitz
METHOD:PUBLISH
X-WR-CALNAME:Veranstaltungen der TU Chemnitz
X-WR-TIMEZONE:Europe/Berlin
BEGIN:VEVENT
CLASS:PUBLIC
DTSTART;TZID="Europe/Berlin":20011010T210000
DTEND;TZID="Europe/Berlin":20011011T020000
LOCATION:WH Reichenhainer Str. 37 Keller
SUMMARY:Semester-Auftakt-Party (Studentenkeller)
DESCRIPTION:Unter dem Campus aber über dem Durchschnitt!\nMit Musik in allen Räumen\, unserer fast schon hauseigenen Jazz-Band und einer Riesen-Auswahl an leckeren Cocktails.\nDa könnt Ihr schon mal sehen\, was im neuen Semester so auf Euch zukommt.\nEin Tritt Frei.
ORGANIZER:MAILTO:fdo@hrz.tu-chemnitz.de
UID:1738@www.tu-chemnitz.de
CREATED:20010727T135100Z
DTSTAMP:20210802T202706Z
END:VEVENT
END:VCALENDAR
