BEGIN:VCALENDAR
VERSION:2.0
PRODID:TU Chemnitz
METHOD:PUBLISH
X-WR-CALNAME:Veranstaltungen der TU Chemnitz
X-WR-TIMEZONE:Europe/Berlin
BEGIN:VEVENT
CLASS:PUBLIC
DTSTART;TZID="Europe/Berlin":20151112T190000
DTEND;TZID="Europe/Berlin":20151112T210000
LOCATION:Reichenhainer Str. 70\, Chemnitz (Rühlmann-Bau)
SUMMARY:"Nager IT – Die faire Computermaus" (Studentenrat\, Referat für Ökologie und Nachhaltigkeit)
DESCRIPTION:Die Referentin zeigt auf\, inwiefern es möglich ist eine Computermaus unter fairen Bedingungen zu produzieren und welche Schwierigkeiten durch die langen Zulieferketten entstehen.\nAnthonie Leistner\, Nager IT\nNatuc\, referat.oekologie@tu-chemnitz.de
ORGANIZER:MAILTO:steffi.lehmann@s2013.tu-chemnitz.de
UID:17357@www.tu-chemnitz.de
CREATED:20151022T130700Z
DTSTAMP:20210801T215913Z
END:VEVENT
END:VCALENDAR
