BEGIN:VCALENDAR
VERSION:2.0
PRODID:TU Chemnitz
METHOD:PUBLISH
X-WR-CALNAME:Veranstaltungen der TU Chemnitz
X-WR-TIMEZONE:Europe/Berlin
BEGIN:VEVENT
CLASS:PUBLIC
DTSTART;TZID="Europe/Berlin":20151022T190000
DTEND;TZID="Europe/Berlin":20151022T210000
LOCATION:Veranstaltungssaal der Volkshochschule im Tietz\, 3. OG
SUMMARY:„Wie wird die Fernwärme erneuerbar?“ - 1.Teil der Ökosozialen Ringvorlesung (Studentenrat\, Referat für Ökologie und Nachhaltigkeit)
DESCRIPTION:Wie kann die sinnvolle und im Prinzip umweltfreundliche Fernwärme auf erneuerbare Energien umgestellt werden und welche Maßnahmen sind dazu nötig?\nDr. Thorsten Urbaneck\, TU Chemnitz\nNatuc\, referat.oekologie@tu-chemnitz.de
ORGANIZER:MAILTO:steffi.lehmann@s2013.tu-chemnitz.de
UID:17355@www.tu-chemnitz.de
CREATED:20151022T124000Z
DTSTAMP:20210802T180106Z
END:VEVENT
END:VCALENDAR
