BEGIN:VCALENDAR
VERSION:2.0
PRODID:TU Chemnitz
METHOD:PUBLISH
X-WR-CALNAME:Veranstaltungen der TU Chemnitz
X-WR-TIMEZONE:Europe/Berlin
BEGIN:VEVENT
CLASS:PUBLIC
DTSTART;TZID="Europe/Berlin":20151028T160000
DTEND;TZID="Europe/Berlin":20151028T173000
LOCATION:Reichenhainer Str. 90\, Chemnitz (Zentr. Hörsaal- und Seminargebäude)
SUMMARY:Geeint und doch verschieden? Deutschland im Jahr 25 der Wiedervereinigung (Philosophische Fakultät\, JP Politikwissenschaftliche Forschungsmethoden)
DESCRIPTION:Der Vortrag präsentiert auf Basis einer Meta-Analyse die politisch-kulturellen Linien in Deutschland von der Zeit vor der Wiedervereinigung bis in die Gegenwart  - nicht zuletzt auf Basis der "Stellvertreterforschung" über Einstellungen in der DDR.\nProf. Dr. Everhard Holtmann\ntom.mannewitz@phil.tu-chemnitz.de
ORGANIZER:MAILTO:tom.mannewitz@phil.tu-chemnitz.de
UID:17322@www.tu-chemnitz.de
CREATED:20151014T154000Z
DTSTAMP:20210802T180048Z
END:VEVENT
END:VCALENDAR
