BEGIN:VCALENDAR
VERSION:2.0
PRODID:TU Chemnitz
METHOD:PUBLISH
X-WR-CALNAME:Veranstaltungen der TU Chemnitz
X-WR-TIMEZONE:Europe/Berlin
BEGIN:VEVENT
CLASS:PUBLIC
DTSTART;TZID="Europe/Berlin":20151027T173000
DTEND;TZID="Europe/Berlin":20151027T190000
LOCATION:Str. der Nationen 62\, Chemnitz (Altes Heizhaus)
SUMMARY:UNIX-Stammtisch in Sachsen (TU Chemnitz)
DESCRIPTION:Thema: Icinga 2 in der Praxis\nPhilipp Seidel\, Chemnitz\nYvonne Seidel\, Tel. 0371 531-38547
ORGANIZER:MAILTO:angela.tulke@hrz.tu-chemnitz.de
UID:17321@www.tu-chemnitz.de
CREATED:20151014T095800Z
DTSTAMP:20210802T180111Z
END:VEVENT
END:VCALENDAR
