BEGIN:VCALENDAR
VERSION:2.0
PRODID:TU Chemnitz
METHOD:PUBLISH
X-WR-CALNAME:Veranstaltungen der TU Chemnitz
X-WR-TIMEZONE:Europe/Berlin
BEGIN:VEVENT
CLASS:PUBLIC
DTSTART;TZID="Europe/Berlin":20151014T090000
DTEND;TZID="Europe/Berlin":20151014T103000
LOCATION:Reichenhainer Str. 90\, Chemnitz (Zentr. Hörsaal- und Seminargebäude)
SUMMARY:Sports Analytics – Survey of State of the Art (Fakultät für Wirtschaftswissenschaften\, Professur Wirtschaftsinformatik – Geschäftsprozess- und Informationsmanagement)
DESCRIPTION:David Schrader referiert über Sports Analytics\, d.h. die Nutzung intelligenter Datenanalyse für die Führung und Optimierung von Sportteams. Verschiedene Fallstudien werden Einblicke in dieses spannende Feld bieten sowie Best Practices liefern.\nDr. David Schrader\, (ehemals Teradata)\nlisa.frenzel@wirtschaft.tu-chemnitz.de
ORGANIZER:MAILTO:christoph.kollwitz@wirtschaft.tu-chemnitz.de
UID:17273@www.tu-chemnitz.de
CREATED:20151002T105400Z
DTSTAMP:20210802T180043Z
END:VEVENT
END:VCALENDAR
