BEGIN:VCALENDAR
VERSION:2.0
PRODID:TU Chemnitz
METHOD:PUBLISH
X-WR-CALNAME:Veranstaltungen der TU Chemnitz
X-WR-TIMEZONE:Europe/Berlin
BEGIN:VEVENT
CLASS:PUBLIC
DTSTART;TZID="Europe/Berlin":20151119T154500
DTEND;TZID="Europe/Berlin":20151119T171500
LOCATION: Zentralbibliothek\, Eingang Bahnhofstraße 2\, Raum 221
SUMMARY:Kurs Literaturrecherche und Volltextbeschaffung (Universitätsbibliothek)
DESCRIPTION:Der Kurs gibt Anleitung zum Finden von Fachliteratur\, Recherchetipps zur Fachrecherche und einen Einblick in den Zugriff auf digitale Medien. Der praxisnahe Workshop macht Sie dazu fachlich fit.\nDagmar Hesse\, Universitätsbibliothek\nAnmeldeformular: https://www.tu-chemnitz.de/ub/kurse-und-e-learning/fuehrung-schulung/anmelde.php
ORGANIZER:MAILTO:dagmar.hesse@bibliothek.tu-chemnitz.de
UID:17259@www.tu-chemnitz.de
CREATED:20150923T100100Z
DTSTAMP:20210801T215910Z
END:VEVENT
END:VCALENDAR
