BEGIN:VCALENDAR
VERSION:2.0
PRODID:TU Chemnitz
METHOD:PUBLISH
X-WR-CALNAME:Veranstaltungen der TU Chemnitz
X-WR-TIMEZONE:Europe/Berlin
BEGIN:VEVENT
CLASS:PUBLIC
DTSTART;TZID="Europe/Berlin":20151125T134500
DTEND;TZID="Europe/Berlin":20151125T170000
LOCATION:Str. der Nationen 62\, Chemnitz (Böttcher-Bau)
SUMMARY:Kurs „Software gemeinsam entwickeln mit GitLab“ (Universitätsrechenzentrum)
DESCRIPTION:Im Kurs werden Kenntnisse im Umgang mit git erworben und die komfortable Webumgebung GitLab vorgestellt\, die unter https://gitlab.hrz.tu-chemnitz.de/ zur Verfügung steht. Erfahrung mit anderen Versionsverwaltungen ist von Vorteil.\nD. Schreiber\nAnmeldung über OPAL: http://mytuc.org/mbvm
ORGANIZER:MAILTO:antje.schreiber@hrz.tu-chemnitz.de
UID:17254@www.tu-chemnitz.de
CREATED:20150921T090900Z
DTSTAMP:20210801T215853Z
END:VEVENT
END:VCALENDAR
