BEGIN:VCALENDAR
VERSION:2.0
PRODID:TU Chemnitz
METHOD:PUBLISH
X-WR-CALNAME:Veranstaltungen der TU Chemnitz
X-WR-TIMEZONE:Europe/Berlin
BEGIN:VEVENT
CLASS:PUBLIC
DTSTART;TZID="Europe/Berlin":20150929T093000
DTEND;TZID="Europe/Berlin":20150929T121500
LOCATION:Fraunhofer IWU Chemnitz\, Reichenhainer Str. 88\, Raum H130/ H131
SUMMARY:Habilitation  (Fakultät für Maschinenbau\, Professur Mikrofertigungstechnik)
DESCRIPTION:09:30 Vortrag: Gestaltung von elektrochemischen Abtragprozessen durch Multiphysiksimulation gezeigt an der Endformgebung von Mikrobohrungen\n11:30 Probevorlesung: Mikro- und Präzisionsbearbeitung durch elektrochemisches Abtragen\nDr. Matthias Hackert-Oschätzchen\nSimone Kias\, 0371/ 531-38059\, mft@tu-chemnitz.de
ORGANIZER:MAILTO:matthias.hackert@mb.tu-chemnitz.de
UID:17227@www.tu-chemnitz.de
CREATED:20150911T084000Z
DTSTAMP:20210802T183540Z
END:VEVENT
END:VCALENDAR
