BEGIN:VCALENDAR
VERSION:2.0
PRODID:TU Chemnitz
METHOD:PUBLISH
X-WR-CALNAME:Veranstaltungen der TU Chemnitz
X-WR-TIMEZONE:Europe/Berlin
BEGIN:VEVENT
CLASS:PUBLIC
DTSTART;TZID="Europe/Berlin":20150902T140000
DTEND;TZID="Europe/Berlin":20150902T150000
LOCATION:Buchhandlung Universitas\, Reichenhainer Str. 55
SUMMARY:ENT_RÜSTET liest August Stramm (Philosophische Fakultät\, Professur für Romanische Kulturwissenschaft)
DESCRIPTION:Anlässlich des 100. Todestages von August Stramm lädt ENT_RÜSTET zu einer Lesung am 02. September\, Mittwoch\, um 14 Uhr in die Universitas (Reichenhainer Str. 55\, Chemnitz) ein.\nManja Berte\, manja.berte@phil.tu-chemnitz.de\, 0371 531 39272
ORGANIZER:MAILTO:manja.berte@phil.tu-chemnitz.de
UID:17209@www.tu-chemnitz.de
CREATED:20150825T131400Z
DTSTAMP:20210802T183529Z
END:VEVENT
END:VCALENDAR
