BEGIN:VCALENDAR
VERSION:2.0
PRODID:TU Chemnitz
METHOD:PUBLISH
X-WR-CALNAME:Veranstaltungen der TU Chemnitz
X-WR-TIMEZONE:Europe/Berlin
BEGIN:VEVENT
CLASS:PUBLIC
DTSTART;TZID="Europe/Berlin":20150930T134500
DTEND;TZID="Europe/Berlin":20150930T151500
LOCATION:Reichenhainer Str. 70\, Chemnitz (Weinhold-Bau)
SUMMARY:Nutzerforum „Neue Dienste am URZ – Sync ’n’ Share und 3D-Druck“ (Universitätsrechenzentrum)
DESCRIPTION:Vorstellung des neuen 3D-Druckdienstes mit komfortablem Webformular und Live-Demo\, Informationen rund um den auf ownCloud basierenden Sync-and-Share-Dienst für Mitarbeiter\nY. Seidel\, D. Heine\nAnmeldung über OPAL: http://mytuc.org/znjs
ORGANIZER:MAILTO:antje.schreiber@hrz.tu-chemnitz.de
UID:17196@www.tu-chemnitz.de
CREATED:20150824T163300Z
DTSTAMP:20210802T183540Z
END:VEVENT
END:VCALENDAR
