BEGIN:VCALENDAR
VERSION:2.0
PRODID:TU Chemnitz
METHOD:PUBLISH
X-WR-CALNAME:Veranstaltungen der TU Chemnitz
X-WR-TIMEZONE:Europe/Berlin
BEGIN:VEVENT
CLASS:PUBLIC
DTSTART;TZID="Europe/Berlin":20151021T131500
DTEND;TZID="Europe/Berlin":20151021T143000
LOCATION:Str. der Nationen 62\, Chemnitz (Böttcher-Bau)
SUMMARY:Umgang mit schwierigen Schülern (Zentrum für Lehrerbildung\, Zentrum für Lehrerbildung)
DESCRIPTION:Um Anmeldung per E-Mail wird gebeten. In diesem Seminar schauen wir uns an\, welcher Schülertyp Ihr persönlicher „Alptraum“ sein könnte. Was zeichnet diesen Schüler aus? Wie sieht er sich selbst? Wie erlebt er Sie und die Schule?....\nEberhard Nassowitz\nzlb@tu-chemnitz.de
ORGANIZER:MAILTO:sabrina.theiler@zlb.tu-chemnitz.de
UID:17191@www.tu-chemnitz.de
CREATED:20150820T095500Z
DTSTAMP:20210802T180033Z
END:VEVENT
END:VCALENDAR
