BEGIN:VCALENDAR
VERSION:2.0
PRODID:TU Chemnitz
METHOD:PUBLISH
X-WR-CALNAME:Veranstaltungen der TU Chemnitz
X-WR-TIMEZONE:Europe/Berlin
BEGIN:VEVENT
CLASS:PUBLIC
DTSTART;TZID="Europe/Berlin":20011201T180000
DTEND;TZID="Europe/Berlin":20011202T020000
LOCATION:Reichenhainer Str. 55\, Chemnitz (Mensa)
SUMMARY:Fakultäts- und Absolventenball der Fakultät für Wirtschaftswissenschaften  (Fakultät für Wirtschaftswissenschaften\, in Zusammenarbeit mit dem Fachschaftsrat Wirtschaftswissenschaften)
DESCRIPTION:Karten sind im Dekanat (Reichenhainer Straße 39; Zimmer 530) erhältlich. Studenten erhalten eine Ermäßigung.\n\n\nfsrwiwi@tu-chemnitz.de
ORGANIZER:MAILTO:marck@hrz.tu-chemnitz.de
UID:1719@www.tu-chemnitz.de
CREATED:20010625T112400Z
DTSTAMP:20210802T202629Z
END:VEVENT
END:VCALENDAR
