BEGIN:VCALENDAR
VERSION:2.0
PRODID:TU Chemnitz
METHOD:PUBLISH
X-WR-CALNAME:Veranstaltungen der TU Chemnitz
X-WR-TIMEZONE:Europe/Berlin
BEGIN:VEVENT
CLASS:PUBLIC
DTSTART;VALUE=DATE:20150921
DTEND;VALUE=DATE:20151002
LOCATION:Reichenhainer Str. 70\, Chemnitz (Weinhold-Bau)
SUMMARY:Vorbereitungskurs für Studienanfänger der Fakultät Elektrotechnik und Informationstechnik (Fakultät für Elektrotechnik und Informationstechnik)
DESCRIPTION:Zweiwöchiger Vorbereitungskurs für die Studienanfänger der Bachelor-Studiengänge der Fakultät für Elektrotechnik und Informationstechnik.\nFrau Karin Kerber\, 0371 531-33264\, karin.kerber@etit.tu-chemnitz.de
ORGANIZER:MAILTO:jan.mehner@etit.tu-chemnitz.de
UID:17185@www.tu-chemnitz.de
CREATED:20150811T153100Z
DTSTAMP:20210802T183526Z
END:VEVENT
END:VCALENDAR
