BEGIN:VCALENDAR
VERSION:2.0
PRODID:TU Chemnitz
METHOD:PUBLISH
X-WR-CALNAME:Veranstaltungen der TU Chemnitz
X-WR-TIMEZONE:Europe/Berlin
BEGIN:VEVENT
CLASS:PUBLIC
DTSTART;VALUE=DATE:20150831
DTEND;VALUE=DATE:20150911
LOCATION:Reichenhainer Str. 90\, Chemnitz (Zentr. Hörsaal- und Seminargebäude)
SUMMARY:9th American-African-European Summer School (Fakultät für Wirtschaftswissenschaften\, Professur für Innovationsforschung und Technologiemanagement)
DESCRIPTION:The summer school is supposed to be an outstanding learning opportunity to study organizational management and intercultural communication. This year’s summer school will focus on "Innovation and Intercultural Management for Sustainable Development".\naae-summer-school@tu-chemnitz.de
ORGANIZER:MAILTO:jessica.schewe@s2013.tu-chemnitz.de
UID:17183@www.tu-chemnitz.de
CREATED:20150807T165200Z
DTSTAMP:20210802T184012Z
END:VEVENT
END:VCALENDAR
