BEGIN:VCALENDAR
VERSION:2.0
PRODID:TU Chemnitz
METHOD:PUBLISH
X-WR-CALNAME:Veranstaltungen der TU Chemnitz
X-WR-TIMEZONE:Europe/Berlin
BEGIN:VEVENT
CLASS:PUBLIC
DTSTART;TZID="Europe/Berlin":20150812T113000
DTEND;TZID="Europe/Berlin":20150812T130000
LOCATION:Str. der Nationen 62\, Chemnitz (Böttcher-Bau)
SUMMARY:Vortrag: Minerals derived from metal complexes as water oxidation catalysts    (Fakultät für Naturwissenschaften\, Professur für Koordinationschemie )
DESCRIPTION:Prof. Leone Spiccia\,  School of Chemistry and Australian Centre of Excellence for Electromaterials Science\,  Monash University\, \nProf. Michael Mehring\, 0371/531-21250\, michael.mehring@chemie.tu-chemnitz.de
ORGANIZER:MAILTO:jutta.ruder@chemie.tu-chemnitz.de
UID:17162@www.tu-chemnitz.de
CREATED:20150723T153400Z
DTSTAMP:20210802T184016Z
END:VEVENT
END:VCALENDAR
