BEGIN:VCALENDAR
VERSION:2.0
PRODID:TU Chemnitz
METHOD:PUBLISH
X-WR-CALNAME:Veranstaltungen der TU Chemnitz
X-WR-TIMEZONE:Europe/Berlin
BEGIN:VEVENT
CLASS:PUBLIC
DTSTART;TZID="Europe/Berlin":20150728T143000
DTEND;TZID="Europe/Berlin":20150728T160000
LOCATION:Str. der Nationen 62\, Chemnitz (Böttcher-Bau)
SUMMARY:Journalistisches Schreiben: Bloggen (TU Chemnitz\, TU4U)
DESCRIPTION:Schüler der 8.-12. Klasse lernen in dem Workshop für den Leser ansprechende Texte zu schreiben. Hierbei steht das Bloggen im Vordergrund.\nNatalie Pohle\, TU Chemnitz\nNatalie Pohle\, natalie.pohle@hrz.tu-chemnitz.de
ORGANIZER:MAILTO:natalie.pohle@verwaltung.tu-chemnitz.de
UID:17160@www.tu-chemnitz.de
CREATED:20150721T085400Z
DTSTAMP:20210802T184349Z
END:VEVENT
END:VCALENDAR
