BEGIN:VCALENDAR
VERSION:2.0
PRODID:TU Chemnitz
METHOD:PUBLISH
X-WR-CALNAME:Veranstaltungen der TU Chemnitz
X-WR-TIMEZONE:Europe/Berlin
BEGIN:VEVENT
CLASS:PUBLIC
DTSTART;TZID="Europe/Berlin":20150717T100000
DTEND;TZID="Europe/Berlin":20150717T170000
LOCATION:
SUMMARY:Gellerts Fabeln und Erzählungen. Traditionslinien aus komparatistischer Perspektive (Philosophische Fakultät\, Professur Neuere Deutsche und Vergleichende Literaturwissenschaft)
DESCRIPTION:Literarisches Kolloquium widmet sich anlässlich Gellerts 300. Geburtstag den Fabeln und Erzählungen des seinerzeit vielgerühmten und weltbekannten sächsischen Dichters.\nDr. Jörg Pottbeckers\, 0371/531-37153\, joerg.pottbeckers@phil.tu-chemnitz.de
ORGANIZER:MAILTO:joerg.pottbeckers@phil.tu-chemnitz.de
UID:17147@www.tu-chemnitz.de
CREATED:20150710T140700Z
DTSTAMP:20210802T184349Z
END:VEVENT
END:VCALENDAR
