BEGIN:VCALENDAR
VERSION:2.0
PRODID:TU Chemnitz
METHOD:PUBLISH
X-WR-CALNAME:Veranstaltungen der TU Chemnitz
X-WR-TIMEZONE:Europe/Berlin
BEGIN:VEVENT
CLASS:PUBLIC
DTSTART;TZID="Europe/Berlin":20150706T134500
DTEND;TZID="Europe/Berlin":20150706T151500
LOCATION:Str. der Nationen 62\, Chemnitz (Böttcher-Bau)
SUMMARY:Spielerisches Gestalten (Zentrum für Lehrerbildung\, Professur Schulpädagogik der Primarstufe)
DESCRIPTION:Theoretischer Rahmen zur Spielpädagogik\, ausgewählte Methoden mit Praxisbezügen\, Darstellendes Spiel - Standbild - Pantomime/Figurenspiel\nProf. Dr. Ulrich Heimlich (LMU München)\nzlb@tu-chemnitz.de
ORGANIZER:MAILTO:karen.werner@zlb.tu-chemnitz.de
UID:17121@www.tu-chemnitz.de
CREATED:20150702T135100Z
DTSTAMP:20210802T184355Z
END:VEVENT
END:VCALENDAR
