BEGIN:VCALENDAR
VERSION:2.0
PRODID:TU Chemnitz
METHOD:PUBLISH
X-WR-CALNAME:Veranstaltungen der TU Chemnitz
X-WR-TIMEZONE:Europe/Berlin
BEGIN:VEVENT
CLASS:PUBLIC
DTSTART;TZID="Europe/Berlin":20150717T110000
DTEND;TZID="Europe/Berlin":20150717T170000
LOCATION:Reichenhainer Str. 41\, Chemnitz
SUMMARY:SPSS-Tutorium für Politikwissenschaftler (Philosophische Fakultät\, JP Politikwissenschaftliche Forschungsmethoden)
DESCRIPTION:Konstantin Willeke\ntom.mannewitz@phil.tu-chemnitz.de
ORGANIZER:MAILTO:tom.mannewitz@phil.tu-chemnitz.de
UID:17115@www.tu-chemnitz.de
CREATED:20150630T130200Z
DTSTAMP:20210802T184345Z
END:VEVENT
END:VCALENDAR
