BEGIN:VCALENDAR
VERSION:2.0
PRODID:TU Chemnitz
METHOD:PUBLISH
X-WR-CALNAME:Veranstaltungen der TU Chemnitz
X-WR-TIMEZONE:Europe/Berlin
BEGIN:VEVENT
CLASS:PUBLIC
DTSTART;TZID="Europe/Berlin":20150629T171500
DTEND;TZID="Europe/Berlin":20150629T203000
LOCATION:Reichenhainer Str. 90\, Chemnitz (Zentr. Hörsaal- und Seminargebäude)
SUMMARY:Integration von Automatisierung und Drive (Fakultät für Maschinenbau\, Professur Werkzeugmaschinen und Umformtechnik)
DESCRIPTION:Inhalte: \n- Integration in der Automatisierungs- und Antriebstechnik sowie der Mechatronik\n- Aktuelle Bedeutung der Integration und Bezug zur industriellen Praxis\nProf. Dr.-Ing. Klaus Wucherer\, Honorarprofessor am Institut für Werkzeugmaschinen und Produktionsprozesse\nSekretariat\, 0371/531-23501\, wzm@mb.tu-chemnitz.de
ORGANIZER:MAILTO:madeleine.matthes@mb.tu-chemnitz.de
UID:17108@www.tu-chemnitz.de
CREATED:20150625T161300Z
DTSTAMP:20210802T184827Z
END:VEVENT
END:VCALENDAR
