BEGIN:VCALENDAR
VERSION:2.0
PRODID:TU Chemnitz
METHOD:PUBLISH
X-WR-CALNAME:Veranstaltungen der TU Chemnitz
X-WR-TIMEZONE:Europe/Berlin
BEGIN:VEVENT
CLASS:PUBLIC
DTSTART;TZID="Europe/Berlin":20150702T134500
DTEND;TZID="Europe/Berlin":20150702T151500
LOCATION:Reichenhainer Str. 90\, Chemnitz (Zentr. Hörsaal- und Seminargebäude)
SUMMARY:Rechtsextremismus im Fußball (Philosophische Fakultät\, Professur Politische Theorie und Ideengeschichte)
DESCRIPTION:Christoph Ruf\, Experte für Fankulturen\, berichtet von seinen Recherchen zum Rechtsextremismus im sächsischen Fußball. Die Veranstaltung ist Teil des Lehr-Lern-Projektes Rechtsextremismus und Zivilgesellschaft im WS 2015/16.\nChristoph Ruf\, Freier Journalist und Autor\nDr. Ellen Thümmler/Dr. Frank Schale\, zivirex@phil.tu-chemnitz.de
ORGANIZER:MAILTO:robert.steudtner@phil.tu-chemnitz.de
UID:17104@www.tu-chemnitz.de
CREATED:20150624T134900Z
DTSTAMP:20210802T184343Z
END:VEVENT
END:VCALENDAR
