BEGIN:VCALENDAR
VERSION:2.0
PRODID:TU Chemnitz
METHOD:PUBLISH
X-WR-CALNAME:Veranstaltungen der TU Chemnitz
X-WR-TIMEZONE:Europe/Berlin
BEGIN:VEVENT
CLASS:PUBLIC
DTSTART;VALUE=DATE:20150703
DTEND;VALUE=DATE:20150704
LOCATION:Str. der Nationen 62\, Chemnitz (Altes Heizhaus)
SUMMARY:CultLangConf: Academic English\,  Variation in Teaching and Research in the EU and beyond (Philosophische Fakultät\, Englische Sprachwissenschaft)
DESCRIPTION:This small international conference combines three perspectives:\nChemnitz students present their PhD and MA projects to a wider audience\, and\ninternational ERASMUS partners add their own specific approaches to widen the perspective\nMessner\, Annegret\, 531 34279\, anne.messner@phil.tu-chemnitz.de
ORGANIZER:MAILTO:anne.messner@phil.tu-chemnitz.de
UID:17101@www.tu-chemnitz.de
CREATED:20150624T092100Z
DTSTAMP:20210802T184340Z
END:VEVENT
END:VCALENDAR
