BEGIN:VCALENDAR
VERSION:2.0
PRODID:TU Chemnitz
METHOD:PUBLISH
X-WR-CALNAME:Veranstaltungen der TU Chemnitz
X-WR-TIMEZONE:Europe/Berlin
BEGIN:VEVENT
CLASS:PUBLIC
DTSTART;TZID="Europe/Berlin":20150625T190000
DTEND;TZID="Europe/Berlin":20150625T203000
LOCATION:Str. der Nationen 62\, Chemnitz (Altes Heizhaus)
SUMMARY:Bruno Apitz : eine politische Biografie (TU Chemnitz\, Universitätsbibliothek Chemnitz)
DESCRIPTION:Wussten Sie schon\, dass Bruno Apitz auch komponierte und selber Geige spielte? Oder dass er im KZ Buchenwald auf der geheimen Trauerfeier zu Ernst Thälmanns Tod musiziert hat? Interessante Gespräche\, Musik und satirische Texte gibt es an diesem Abend.\nDr. Lars Förster\, Professor Frank-Lothar Kroll\, Marlis Apitz (Witwe von Bruno Apitz)\, Christiane Friedrich (Collegium musicum) u\nina.potts@bibliothek.tu-chemnitz.de\, Tel. 531-36492
ORGANIZER:MAILTO:ina.potts@bibliothek.tu-chemnitz.de
UID:17089@www.tu-chemnitz.de
CREATED:20150617T115000Z
DTSTAMP:20210802T184800Z
END:VEVENT
END:VCALENDAR
