BEGIN:VCALENDAR
VERSION:2.0
PRODID:TU Chemnitz
METHOD:PUBLISH
X-WR-CALNAME:Veranstaltungen der TU Chemnitz
X-WR-TIMEZONE:Europe/Berlin
BEGIN:VEVENT
CLASS:PUBLIC
DTSTART;TZID="Europe/Berlin":20150625T173000
DTEND;TZID="Europe/Berlin":20150625T220000
LOCATION:Sportplatz\, Chemnitz
SUMMARY:"My prof is my DJ" & Grillen (VWI HG Chemnitz e.V.)
DESCRIPTION:Im Anschluss an das FSR WIWI Fußballturnier bieten wir euch die Möglichkeit bei einem kleinen Grillabend den Tag noch gemütlich ausklingen zu lassen. Die Musik kommt diesmal von unseren Profs. Ihr könnt also gespannt sein...\nInfos auf Facebook unter VWI Chemnitz e.V.
ORGANIZER:MAILTO:romy.bretschneider@s2009.tu-chemnitz.de
UID:17086@www.tu-chemnitz.de
CREATED:20150616T144500Z
DTSTAMP:20210802T184833Z
END:VEVENT
END:VCALENDAR
