BEGIN:VCALENDAR
VERSION:2.0
PRODID:TU Chemnitz
METHOD:PUBLISH
X-WR-CALNAME:Veranstaltungen der TU Chemnitz
X-WR-TIMEZONE:Europe/Berlin
BEGIN:VEVENT
CLASS:PUBLIC
DTSTART;TZID="Europe/Berlin":20150610T190000
DTEND;TZID="Europe/Berlin":20150610T210000
LOCATION:Reichenhainer Str. 70\, Chemnitz (Weinhold-Bau)
SUMMARY:Widerlegung der Evolution durch Naturgesetze...?! Herkunft des Lebens aus der Sicht der Naturgesetze der Information (Hochschul SMD Chemnitz)
DESCRIPTION:Prof. Gitt ist ehemaliger Direktor und Professor der Physikalisch-Technischen Bundesanstalt in Braunschweig. Er hat bereits zahlreiche wissenschaftliche Publikationen zum Problemkreis "Biblischer Glaube und Naturwissenschaft" verfasst. - www.wernergitt.de\nProf. a.D. Dr.-Ing. Werner Gitt aus Braunschweig\nsmd@tu-chemnitz.de
ORGANIZER:MAILTO:anne-christin.kleemann@s2010.tu-chemnitz.de
UID:17067@www.tu-chemnitz.de
CREATED:20150610T132500Z
DTSTAMP:20210802T184826Z
END:VEVENT
END:VCALENDAR
