BEGIN:VCALENDAR
VERSION:2.0
PRODID:TU Chemnitz
METHOD:PUBLISH
X-WR-CALNAME:Veranstaltungen der TU Chemnitz
X-WR-TIMEZONE:Europe/Berlin
BEGIN:VEVENT
CLASS:PUBLIC
DTSTART;TZID="Europe/Berlin":20150630T173000
DTEND;TZID="Europe/Berlin":20150630T190000
LOCATION:Thüringer Weg 7\, Raum K012
SUMMARY:How to become less excellent: Game-playing and scholarship in the business school (Fakultät für Wirtschaftswissenschaften\, Professur für Finanzwissenschaft)
DESCRIPTION:Gastreferent Dr. Sverre Spoelstra von der Universität Lund (Schweden) referiert im Rahmen des Chemnitzer Wirtschaftswissenschaftlichen Forschungsseminars. Interessenten sind herzlich zu dieser Veranstaltung eingeladen.\nDr. Sverre Spoelstra (Universität Lund\, Schweden)\nkeine Anmeldung erforderlich
ORGANIZER:MAILTO:anja.zenker@wirtschaft.tu-chemnitz.de
UID:17062@www.tu-chemnitz.de
CREATED:20150609T134200Z
DTSTAMP:20210802T184802Z
END:VEVENT
END:VCALENDAR
